BEGIN:VCALENDAR
PRODID:-//Microsoft Corporation//Outlook 12.0 MIMEDIR//EN
VERSION:2.0
CALSCALE:GREGORIAN
BEGIN:VEVENT
UID: a2c276d9-9ae8-4b32-9f47-6d4d0bc857e1
SUMMARY:Tule kooli kaisukaga
DTSTAMP:20260407
DTSTART:20260407
DTEND:20260408
DURATION:P1D
LOCATION:
DESCRIPTION: <div class="xdj266r x14z9mp xat24cr x1lziwak x1vvkbs x126k92a" style="-webkit-text-stroke-width:0px;background-color:rgb(255, 255, 255);color:rgb(8, 8, 9);font-family:&quot;Segoe UI Historic&quot;, &quot;Segoe UI&quot;, Helvetica, Arial, sans-serif;font-size:15px;font-style:normal;font-variant-caps:normal;font-variant-ligatures:normal;font-weight:400;letter-spacing:normal;margin-bottom:0px;margin-inline:0px;margin-top:0px;orphans:2;overflow-wrap:break-word;text-align:start;text-decoration-color:initial;text-decoration-style:initial;text-decoration-thickness:initial;text-indent:0px;text-transform:none;white-space:pre-wrap;widows:2;word-spacing:0px;"><div style="font-family:inherit;text-align:start;" dir="auto">Sügisel oli mõnel õpilasel armas küsimus: "Millal kaisukaga kooli tulemise päev on?". Toona oli meil koolis kavas teisi toredaid sündmuseid. </div></div><div class="x14z9mp xat24cr x1lziwak x1vvkbs xtlvy1s x126k92a" style="-webkit-text-stroke-width:0px;background-color:rgb(255, 255, 255);color:rgb(8, 8, 9);font-family:&quot;Segoe UI Historic&quot;, &quot;Segoe UI&quot;, Helvetica, Arial, sans-serif;font-size:15px;font-style:normal;font-variant-caps:normal;font-variant-ligatures:normal;font-weight:400;letter-spacing:normal;margin-bottom:0px;margin-inline:0px;margin-top:0.5em;orphans:2;overflow-wrap:break-word;text-align:start;text-decoration-color:initial;text-decoration-style:initial;text-decoration-thickness:initial;text-indent:0px;text-transform:none;white-space:pre-wrap;widows:2;word-spacing:0px;"><div style="font-family:inherit;text-align:start;" dir="auto">Rahvusvaheline kaisukarupäev leiab aset 27. oktoobril, kuid meie võtame selle ette aprillis. </div></div><div class="x14z9mp xat24cr x1lziwak x1vvkbs xtlvy1s x126k92a" style="-webkit-text-stroke-width:0px;background-color:rgb(255, 255, 255);color:rgb(8, 8, 9);font-family:&quot;Segoe UI Historic&quot;, &quot;Segoe UI&quot;, Helvetica, Arial, sans-serif;font-size:15px;font-style:normal;font-variant-caps:normal;font-variant-ligatures:normal;font-weight:400;letter-spacing:normal;margin-bottom:0px;margin-inline:0px;margin-top:0.5em;orphans:2;overflow-wrap:break-word;text-align:start;text-decoration-color:initial;text-decoration-style:initial;text-decoration-thickness:initial;text-indent:0px;text-transform:none;white-space:pre-wrap;widows:2;word-spacing:0px;"><div style="font-family:inherit;text-align:start;" dir="auto">Seega, sel aastal hoopis kevadel, 7. aprillil on õpilastel ja õpetajatel aeg üks tore kaisukas koolitarvetega kaasa haarata.</div></div><div class="x14z9mp xat24cr x1lziwak x1vvkbs xtlvy1s x126k92a" style="-webkit-text-stroke-width:0px;background-color:rgb(255, 255, 255);color:rgb(8, 8, 9);font-family:&quot;Segoe UI Historic&quot;, &quot;Segoe UI&quot;, Helvetica, Arial, sans-serif;font-size:15px;font-style:normal;font-variant-caps:normal;font-variant-ligatures:normal;font-weight:400;letter-spacing:normal;margin-bottom:0px;margin-inline:0px;margin-top:0.5em;orphans:2;overflow-wrap:break-word;text-align:start;text-decoration-color:initial;text-decoration-style:initial;text-decoration-thickness:initial;text-indent:0px;text-transform:none;white-space:pre-wrap;widows:2;word-spacing:0px;"><div style="font-family:inherit;text-align:start;" dir="auto"> Eesmärk on luua koolikeskkonda headust ja pehmust täis õhustik. </div><div style="font-family:inherit;text-align:start;" dir="auto">&nbsp;</div></div><div class="x14z9mp xat24cr x1lziwak x1vvkbs xtlvy1s x126k92a" style="-webkit-text-stroke-width:0px;background-color:rgb(255, 255, 255);color:rgb(8, 8, 9);font-family:&quot;Segoe UI Historic&quot;, &quot;Segoe UI&quot;, Helvetica, Arial, sans-serif;font-size:15px;font-style:normal;font-variant-caps:normal;font-variant-ligatures:normal;font-weight:400;letter-spacing:normal;margin-bottom:0px;margin-inline:0px;margin-top:0.5em;orphans:2;overflow-wrap:break-word;text-align:start;text-decoration-color:initial;text-decoration-style:initial;text-decoration-thickness:initial;text-indent:0px;text-transform:none;white-space:pre-wrap;widows:2;word-spacing:0px;"><div style="font-family:inherit;text-align:start;" dir="auto">Ootame kõiki rõõmsalt osalema! </div><div style="font-family:inherit;text-align:start;" dir="auto">&nbsp;</div><div style="font-family:inherit;text-align:start;" dir="auto">&nbsp;</div></div><p><strong>Link: </strong>https://vana-vigala.edu.ee/et/sundmuste-kalender/tule-kooli-kaisukaga</p><p><strong>Hind: </strong></p>
STATUS:CONFIRMED
SEQUENCE:3
X-ALT-DESC;FMTTYPE=text/html:<div class="xdj266r x14z9mp xat24cr x1lziwak x1vvkbs x126k92a" style="-webkit-text-stroke-width:0px;background-color:rgb(255, 255, 255);color:rgb(8, 8, 9);font-family:&quot;Segoe UI Historic&quot;, &quot;Segoe UI&quot;, Helvetica, Arial, sans-serif;font-size:15px;font-style:normal;font-variant-caps:normal;font-variant-ligatures:normal;font-weight:400;letter-spacing:normal;margin-bottom:0px;margin-inline:0px;margin-top:0px;orphans:2;overflow-wrap:break-word;text-align:start;text-decoration-color:initial;text-decoration-style:initial;text-decoration-thickness:initial;text-indent:0px;text-transform:none;white-space:pre-wrap;widows:2;word-spacing:0px;"><div style="font-family:inherit;text-align:start;" dir="auto">Sügisel oli mõnel õpilasel armas küsimus: "Millal kaisukaga kooli tulemise päev on?". Toona oli meil koolis kavas teisi toredaid sündmuseid. </div></div><div class="x14z9mp xat24cr x1lziwak x1vvkbs xtlvy1s x126k92a" style="-webkit-text-stroke-width:0px;background-color:rgb(255, 255, 255);color:rgb(8, 8, 9);font-family:&quot;Segoe UI Historic&quot;, &quot;Segoe UI&quot;, Helvetica, Arial, sans-serif;font-size:15px;font-style:normal;font-variant-caps:normal;font-variant-ligatures:normal;font-weight:400;letter-spacing:normal;margin-bottom:0px;margin-inline:0px;margin-top:0.5em;orphans:2;overflow-wrap:break-word;text-align:start;text-decoration-color:initial;text-decoration-style:initial;text-decoration-thickness:initial;text-indent:0px;text-transform:none;white-space:pre-wrap;widows:2;word-spacing:0px;"><div style="font-family:inherit;text-align:start;" dir="auto">Rahvusvaheline kaisukarupäev leiab aset 27. oktoobril, kuid meie võtame selle ette aprillis. </div></div><div class="x14z9mp xat24cr x1lziwak x1vvkbs xtlvy1s x126k92a" style="-webkit-text-stroke-width:0px;background-color:rgb(255, 255, 255);color:rgb(8, 8, 9);font-family:&quot;Segoe UI Historic&quot;, &quot;Segoe UI&quot;, Helvetica, Arial, sans-serif;font-size:15px;font-style:normal;font-variant-caps:normal;font-variant-ligatures:normal;font-weight:400;letter-spacing:normal;margin-bottom:0px;margin-inline:0px;margin-top:0.5em;orphans:2;overflow-wrap:break-word;text-align:start;text-decoration-color:initial;text-decoration-style:initial;text-decoration-thickness:initial;text-indent:0px;text-transform:none;white-space:pre-wrap;widows:2;word-spacing:0px;"><div style="font-family:inherit;text-align:start;" dir="auto">Seega, sel aastal hoopis kevadel, 7. aprillil on õpilastel ja õpetajatel aeg üks tore kaisukas koolitarvetega kaasa haarata.</div></div><div class="x14z9mp xat24cr x1lziwak x1vvkbs xtlvy1s x126k92a" style="-webkit-text-stroke-width:0px;background-color:rgb(255, 255, 255);color:rgb(8, 8, 9);font-family:&quot;Segoe UI Historic&quot;, &quot;Segoe UI&quot;, Helvetica, Arial, sans-serif;font-size:15px;font-style:normal;font-variant-caps:normal;font-variant-ligatures:normal;font-weight:400;letter-spacing:normal;margin-bottom:0px;margin-inline:0px;margin-top:0.5em;orphans:2;overflow-wrap:break-word;text-align:start;text-decoration-color:initial;text-decoration-style:initial;text-decoration-thickness:initial;text-indent:0px;text-transform:none;white-space:pre-wrap;widows:2;word-spacing:0px;"><div style="font-family:inherit;text-align:start;" dir="auto"> Eesmärk on luua koolikeskkonda headust ja pehmust täis õhustik. </div><div style="font-family:inherit;text-align:start;" dir="auto">&nbsp;</div></div><div class="x14z9mp xat24cr x1lziwak x1vvkbs xtlvy1s x126k92a" style="-webkit-text-stroke-width:0px;background-color:rgb(255, 255, 255);color:rgb(8, 8, 9);font-family:&quot;Segoe UI Historic&quot;, &quot;Segoe UI&quot;, Helvetica, Arial, sans-serif;font-size:15px;font-style:normal;font-variant-caps:normal;font-variant-ligatures:normal;font-weight:400;letter-spacing:normal;margin-bottom:0px;margin-inline:0px;margin-top:0.5em;orphans:2;overflow-wrap:break-word;text-align:start;text-decoration-color:initial;text-decoration-style:initial;text-decoration-thickness:initial;text-indent:0px;text-transform:none;white-space:pre-wrap;widows:2;word-spacing:0px;"><div style="font-family:inherit;text-align:start;" dir="auto">Ootame kõiki rõõmsalt osalema! </div><div style="font-family:inherit;text-align:start;" dir="auto">&nbsp;</div><div style="font-family:inherit;text-align:start;" dir="auto">&nbsp;</div></div><p><strong>Link: </strong>https://vana-vigala.edu.ee/et/sundmuste-kalender/tule-kooli-kaisukaga</p><p><strong>Hind: </strong></p>
X-MICROSOFT-CDO-BUSYSTATUS:OOF
X-MICROSOFT-CDO-IMPORTANCE:1
X-MICROSOFT-DISALLOW-COUNTER:FALSE
X-MS-OLK-ALLOWEXTERNCHECK:TRUE
X-MS-OLK-CONFTYPE:0
X-MICROSOFT-CDO-ALLDAYEVENT:1
X-MICROSOFT-MSNCALENDAR-ALLDAYEVENT:1
END:VEVENT
END:VCALENDAR